BEGIN:VCALENDAR
VERSION:2.0
PRODID:-//ChurchDev//Events//EN
CALSCALE:GREGORIAN
METHOD:PUBLISH
BEGIN:VEVENT
UID:11035-20260402@www.familyoffaithchurch.com
SUMMARY:Maundy Thursday Service: Communion and Foot Washing
DTSTART:20260402T233000Z
DTEND:20260403T003000Z
DESCRIPTION:Join us at Family of Faith to commemorate the Washing of the Feet (Maundy) and the Last Supper of Jesus Christ (Communion)\\n\\nhttps://www.familyoffaithchurch.com/events/maundy/
LOCATION:3200 US Hwy 82 East Sherman\, TX 75092
URL:https://www.familyoffaithchurch.com/events/maundy/
DTSTAMP:20260419T214101Z
END:VEVENT
END:VCALENDAR
