BEGIN:VCALENDAR
VERSION:2.0
PRODID:-//ChurchDev//Events//EN
CALSCALE:GREGORIAN
METHOD:PUBLISH
BEGIN:VEVENT
UID:11036-20260405@www.familyoffaithchurch.com
SUMMARY:Resurrection Sunday Service
DTSTART:20260405T153000Z
DTEND:20260405T163000Z
DESCRIPTION:Resurrection Sunday we will celebrate our risen Savior &#8211\; The One who conquered death on the cross. Please join us for this specail day and bring a friend.\\nThe ladies celebrate by wearing there new Easter bonnets and there will be an Easter Egg Hunt after the service.\\n\\nhttps://www.familyoffaithchurch.com/events/ressurrection-sunday-service/
LOCATION:3200 US Hwy 82 East Sherman\, TX 75092
URL:https://www.familyoffaithchurch.com/events/ressurrection-sunday-service/
DTSTAMP:20260419T214102Z
END:VEVENT
END:VCALENDAR
