BEGIN:VCALENDAR
VERSION:2.0
PRODID:-//ChurchDev//Events//EN
CALSCALE:GREGORIAN
METHOD:PUBLISH
BEGIN:VEVENT
UID:11120-20260419@www.familyoffaithchurch.com
SUMMARY:Bibles &#038\; Bows: Bloom Where You Are Planted
DTSTART:20260419T213000Z
DTEND:20260419T230000Z
DESCRIPTION:Come and join the ladies of the church for fun\, fellowship and listen to a great devotion! Please bring a salad to share. Becky will be providing a dessert.\\nThis is a great way to get to know the ladies of the church. See you there!\\n\\nhttps://www.familyoffaithchurch.com/events/bibles-bows-bloom-where-you-are-planted-2/
LOCATION:3200 US Hwy 82 East Sherman\, TX 75092
URL:https://www.familyoffaithchurch.com/events/bibles-bows-bloom-where-you-are-planted-2/
DTSTAMP:20260419T214101Z
END:VEVENT
END:VCALENDAR
