BEGIN:VCALENDAR
VERSION:2.0
PRODID:-//ChurchDev//Events//EN
CALSCALE:GREGORIAN
METHOD:PUBLISH
BEGIN:VEVENT
UID:11270-20260419@www.familyoffaithchurch.com
SUMMARY:Men&#8217\;s Bible Study: Spit-n-Widdle
DTSTART:20260419T213000Z
DTEND:20260419T230000Z
DESCRIPTION:Come and join the Family of Faith men at Catrina&#8217\;s Cocina &amp\; Tequila Bar for fun\, fellowship and a devotional.\\nCatrina&#8217\;s Cocina &amp\; Tequila Bar\\n306 US-82 E\\nSherman\, TX 75092\\n\\nhttps://www.familyoffaithchurch.com/events/mens-bible-study-spit-n-widdle-3/
LOCATION:3200 US Hwy 82 East Sherman\, TX 75092
URL:https://www.familyoffaithchurch.com/events/mens-bible-study-spit-n-widdle-3/
DTSTAMP:20260419T214102Z
END:VEVENT
END:VCALENDAR
