BEGIN:VCALENDAR
VERSION:2.0
PRODID:-//ChurchDev//Events//EN
CALSCALE:GREGORIAN
METHOD:PUBLISH
BEGIN:VEVENT
UID:2837-20220911@www.familyoffaithchurch.com
SUMMARY:Sunday Worship Service
DTSTART:20220911T153000Z
DTEND:20220911T163000Z
DESCRIPTION:https://www.familyoffaithchurch.com/events/sunday-worship-service/
LOCATION:3200 US Hwy 82 East Sherman\, TX 75092
URL:https://www.familyoffaithchurch.com/events/sunday-worship-service/
DTSTAMP:20260419T214102Z
END:VEVENT
END:VCALENDAR
