BEGIN:VCALENDAR
VERSION:2.0
PRODID:-//ChurchDev//Events//EN
CALSCALE:GREGORIAN
METHOD:PUBLISH
BEGIN:VEVENT
UID:2873-20220914@www.familyoffaithchurch.com
SUMMARY:Choir Practice
DTSTART:20220914T223000Z
DTEND:20220914T233000Z
DESCRIPTION:https://www.familyoffaithchurch.com/events/choir-practice/
LOCATION:3200 US Hwy 82 East Sherman\, TX 75092
URL:https://www.familyoffaithchurch.com/events/choir-practice/
DTSTAMP:20260419T214103Z
END:VEVENT
END:VCALENDAR
