BEGIN:VCALENDAR
VERSION:2.0
PRODID:-//ChurchDev//Events//EN
CALSCALE:GREGORIAN
METHOD:PUBLISH
BEGIN:VEVENT
UID:6199-20240107@www.familyoffaithchurch.com
SUMMARY:Men’s Prayer Group
DTSTART:20240107T160000Z
DTEND:20240107T161500Z
DESCRIPTION:Join the men of the church every Sunday morning by attending the Men&#8217\;s Prayer Group. They meet in the sanctuary\, before church from 10:00 am &#8211\; 10:15 am.\\n\\nhttps://www.familyoffaithchurch.com/events/mens-prayer-group/
LOCATION:3200 US Hwy 82 East Sherman\, TX 75092
URL:https://www.familyoffaithchurch.com/events/mens-prayer-group/
DTSTAMP:20260419T214102Z
END:VEVENT
END:VCALENDAR
